BEGIN:VCALENDAR
VERSION:2.0
CALSCALE:GREGORIAN
PRODID:-//Diputació de Barcelona//DibaCMS//EN
BEGIN:VEVENT
UID:6095
DTSTAMP:20260423T180514
DTSTART:20111113T000000
DTEND:20111113T000000
SUMMARY:La 19a Edició de la Cursa de muntanya del Farell es farà el diumenge 13 de novembre 
LOCATION:
METHOD:PUBLISH
X-WR-CALNAME:caldesm@caldesdemontbui.cat
X-WR-TIMEZONE:Europe/Madrid
DESCRIPTION:
URI:https://www.caldesdemontbui.cat/actualitat/agenda/la-19a-edicio-de-la-cursa-de-muntanya-del-farell-es-fara-el-diumenge-13-de-novembre-.html
CLASS:PUBLIC
END:VEVENT
END:VCALENDAR
