BEGIN:VCALENDAR
VERSION:2.0
CALSCALE:GREGORIAN
PRODID:-//Diputació de Barcelona//DibaCMS//EN
BEGIN:VEVENT
UID:6094
DTSTAMP:20260424T020302
DTSTART:20111112T190000
DTEND:20111112T000000
SUMMARY:Exposició de fotografies de Joan Picanyol "Caos, Déus, Mites...Eternitat" a la Sala Delger del 12 al 27 de novembre
LOCATION:
METHOD:PUBLISH
X-WR-CALNAME:caldesm@caldesdemontbui.cat
X-WR-TIMEZONE:Europe/Madrid
DESCRIPTION:
URI:https://www.caldesdemontbui.cat/actualitat/agenda/exposicio-de-fotografies-de-joan-picanyol-caos-deus-miteseternitat-a-la-sala-delger-del-12-al-27-de-novembre.html
CLASS:PUBLIC
END:VEVENT
END:VCALENDAR
