BEGIN:VCALENDAR
VERSION:2.0
CALSCALE:GREGORIAN
PRODID:-//Diputació de Barcelona//DibaCMS//EN
BEGIN:VEVENT
UID:6092
DTSTAMP:20260424T022029
DTSTART:20111110T193000
DTEND:20111110T000000
SUMMARY:Top manta solidari: Xerrada sobre le projecte Tarbia
LOCATION:
METHOD:PUBLISH
X-WR-CALNAME:caldesm@caldesdemontbui.cat
X-WR-TIMEZONE:Europe/Madrid
DESCRIPTION:
URI:https://www.caldesdemontbui.cat/actualitat/agenda/top-manta-solidari-xerrada-sobre-le-projecte-tarbia.html
CLASS:PUBLIC
END:VEVENT
END:VCALENDAR
