BEGIN:VCALENDAR
VERSION:2.0
CALSCALE:GREGORIAN
PRODID:-//Diputació de Barcelona//DibaCMS//EN
BEGIN:VEVENT
UID:6091
DTSTAMP:20260424T040458
DTSTART:20111109T183000
DTEND:20111109T000000
SUMMARY:Inici del curs "Aprèn a fer fotografies", amb Jordi Segalés
LOCATION:
METHOD:PUBLISH
X-WR-CALNAME:caldesm@caldesdemontbui.cat
X-WR-TIMEZONE:Europe/Madrid
DESCRIPTION:
URI:https://www.caldesdemontbui.cat/actualitat/agenda/inici-del-curs-apren-a-fer-fotografies-amb-jordi-segales.html
CLASS:PUBLIC
END:VEVENT
END:VCALENDAR
