BEGIN:VCALENDAR
VERSION:2.0
CALSCALE:GREGORIAN
PRODID:-//Diputació de Barcelona//DibaCMS//EN
BEGIN:VEVENT
UID:6090
DTSTAMP:20260424T071242
DTSTART:20111109T183000
DTEND:20111109T000000
SUMMARY:Taller: Aprèn a fer fotografies correctament
LOCATION:
METHOD:PUBLISH
X-WR-CALNAME:caldesm@caldesdemontbui.cat
X-WR-TIMEZONE:Europe/Madrid
DESCRIPTION:
URI:https://www.caldesdemontbui.cat/actualitat/agenda/taller-apren-a-fer-fotografies-correctament.html
CLASS:PUBLIC
END:VEVENT
END:VCALENDAR
