BEGIN:VCALENDAR
VERSION:2.0
CALSCALE:GREGORIAN
PRODID:-//Diputació de Barcelona//DibaCMS//EN
BEGIN:VEVENT
UID:6089
DTSTAMP:20260423T182549
DTSTART:20111109T170000
DTEND:20111109T000000
SUMMARY:Acte per la Martó de TV3: Regeneració i transplantament d'òrgans
LOCATION:
METHOD:PUBLISH
X-WR-CALNAME:caldesm@caldesdemontbui.cat
X-WR-TIMEZONE:Europe/Madrid
DESCRIPTION:
URI:https://www.caldesdemontbui.cat/actualitat/agenda/acte-per-la-marto-de-tv3-regeneracio-i-transplantament-dorgans.html
CLASS:PUBLIC
END:VEVENT
END:VCALENDAR
