BEGIN:VCALENDAR
VERSION:2.0
CALSCALE:GREGORIAN
PRODID:-//Diputació de Barcelona//DibaCMS//EN
BEGIN:VEVENT
UID:6088
DTSTAMP:20260424T093423
DTSTART:20111109T160000
DTEND:20111109T000000
SUMMARY:Taller de sabons artesanals terapèutics, amb Rosa M. Martí
LOCATION:
METHOD:PUBLISH
X-WR-CALNAME:caldesm@caldesdemontbui.cat
X-WR-TIMEZONE:Europe/Madrid
DESCRIPTION:
URI:https://www.caldesdemontbui.cat/actualitat/agenda/taller-de-sabons-artesanals-terapeutics-amb-rosa-m-marti.html
CLASS:PUBLIC
END:VEVENT
END:VCALENDAR
