BEGIN:VCALENDAR
VERSION:2.0
CALSCALE:GREGORIAN
PRODID:-//Diputació de Barcelona//DibaCMS//EN
BEGIN:VEVENT
UID:6087
DTSTAMP:20260423T142239
DTSTART:20111109T090000
DTEND:20111109T000000
SUMMARY:Caminada a la vinya del Llobet i a la Torre Nova
LOCATION:
METHOD:PUBLISH
X-WR-CALNAME:caldesm@caldesdemontbui.cat
X-WR-TIMEZONE:Europe/Madrid
DESCRIPTION:
URI:https://www.caldesdemontbui.cat/actualitat/agenda/caminada-a-la-vinya-del-llobet-i-a-la-torre-nova.html
CLASS:PUBLIC
END:VEVENT
END:VCALENDAR
