BEGIN:VCALENDAR
VERSION:2.0
CALSCALE:GREGORIAN
PRODID:-//Diputació de Barcelona//DibaCMS//EN
BEGIN:VEVENT
UID:6086
DTSTAMP:20260423T144428
DTSTART:20111108T183000
DTEND:20111108T000000
SUMMARY:Ep... Jove!! T'agradaria treballar durant el Nadal? Vine a la xerrada informativa a l'Espai jove El Toc. 
LOCATION:
METHOD:PUBLISH
X-WR-CALNAME:caldesm@caldesdemontbui.cat
X-WR-TIMEZONE:Europe/Madrid
DESCRIPTION:
URI:https://www.caldesdemontbui.cat/actualitat/agenda/ep-jove-tagradaria-treballar-durant-el-nadal-vine-a-la-xerrada-informativa-a-lespai-jove-el-toc-.html
CLASS:PUBLIC
END:VEVENT
END:VCALENDAR
