BEGIN:VCALENDAR
VERSION:2.0
CALSCALE:GREGORIAN
PRODID:-//Diputació de Barcelona//DibaCMS//EN
BEGIN:VEVENT
UID:6084
DTSTAMP:20260423T092201
DTSTART:20111106T183000
DTEND:20111106T000000
SUMMARY:IV Cicle de teatre de tardor: Vides
LOCATION:
METHOD:PUBLISH
X-WR-CALNAME:caldesm@caldesdemontbui.cat
X-WR-TIMEZONE:Europe/Madrid
DESCRIPTION:
URI:https://www.caldesdemontbui.cat/actualitat/agenda/iv-cicle-de-teatre-de-tardor-vides.html
CLASS:PUBLIC
END:VEVENT
END:VCALENDAR
