BEGIN:VCALENDAR
VERSION:2.0
CALSCALE:GREGORIAN
PRODID:-//Diputació de Barcelona//DibaCMS//EN
BEGIN:VEVENT
UID:6083
DTSTAMP:20260424T001853
DTSTART:20111106T113000
DTEND:20111106T000000
SUMMARY:Missa de difunts i celebració de la Castanyada
LOCATION:
METHOD:PUBLISH
X-WR-CALNAME:caldesm@caldesdemontbui.cat
X-WR-TIMEZONE:Europe/Madrid
DESCRIPTION:
URI:https://www.caldesdemontbui.cat/actualitat/agenda/missa-de-difunts-i-celebracio-de-la-castanyada.html
CLASS:PUBLIC
END:VEVENT
END:VCALENDAR
