BEGIN:VCALENDAR
VERSION:2.0
CALSCALE:GREGORIAN
PRODID:-//Diputació de Barcelona//DibaCMS//EN
BEGIN:VEVENT
UID:6082
DTSTAMP:20260423T160301
DTSTART:20111106T080000
DTEND:20111106T000000
SUMMARY:Sortida al cim de Puigmal
LOCATION:
METHOD:PUBLISH
X-WR-CALNAME:caldesm@caldesdemontbui.cat
X-WR-TIMEZONE:Europe/Madrid
DESCRIPTION:
URI:https://www.caldesdemontbui.cat/actualitat/agenda/sortida-al-cim-de-puigmal.html
CLASS:PUBLIC
END:VEVENT
END:VCALENDAR
