BEGIN:VCALENDAR
VERSION:2.0
CALSCALE:GREGORIAN
PRODID:-//Diputació de Barcelona//DibaCMS//EN
BEGIN:VEVENT
UID:6081
DTSTAMP:20260423T165506
DTSTART:20111106T000000
DTEND:20111106T000000
SUMMARY:Caminada: pujada a Puigmal, des de Fontalba
LOCATION:
METHOD:PUBLISH
X-WR-CALNAME:caldesm@caldesdemontbui.cat
X-WR-TIMEZONE:Europe/Madrid
DESCRIPTION:
URI:https://www.caldesdemontbui.cat/actualitat/agenda/caminada-pujada-a-puigmal-des-de-fontalba.html
CLASS:PUBLIC
END:VEVENT
END:VCALENDAR
