BEGIN:VCALENDAR
VERSION:2.0
CALSCALE:GREGORIAN
PRODID:-//Diputació de Barcelona//DibaCMS//EN
BEGIN:VEVENT
UID:6079
DTSTAMP:20260423T110033
DTSTART:20111105T110000
DTEND:20111105T000000
SUMMARY:Visita guiada a l'exposició "Emprentes de dones. Gravadores de Catalunya i Argentina"
LOCATION:
METHOD:PUBLISH
X-WR-CALNAME:caldesm@caldesdemontbui.cat
X-WR-TIMEZONE:Europe/Madrid
DESCRIPTION:
URI:https://www.caldesdemontbui.cat/actualitat/agenda/visita-guiada-a-lexposicio-emprentes-de-dones-gravadores-de-catalunya-i-argentina.html
CLASS:PUBLIC
END:VEVENT
END:VCALENDAR
