BEGIN:VCALENDAR
VERSION:2.0
CALSCALE:GREGORIAN
PRODID:-//Diputació de Barcelona//DibaCMS//EN
BEGIN:VEVENT
UID:6078
DTSTAMP:20260424T015002
DTSTART:20111104T173000
DTEND:20111104T000000
SUMMARY:Tallers i activitats al nou Espai Jove El Toc
LOCATION:
METHOD:PUBLISH
X-WR-CALNAME:caldesm@caldesdemontbui.cat
X-WR-TIMEZONE:Europe/Madrid
DESCRIPTION:
URI:https://www.caldesdemontbui.cat/actualitat/agenda/tallers-i-activitats-al-nou-espai-jove-el-toc.html
CLASS:PUBLIC
END:VEVENT
END:VCALENDAR
