BEGIN:VCALENDAR
VERSION:2.0
CALSCALE:GREGORIAN
PRODID:-//Diputació de Barcelona//DibaCMS//EN
BEGIN:VEVENT
UID:6076
DTSTAMP:20260424T051210
DTSTART:20111102T090000
DTEND:20111102T000000
SUMMARY:Caminada al Gorc d'en Pélacs
LOCATION:
METHOD:PUBLISH
X-WR-CALNAME:caldesm@caldesdemontbui.cat
X-WR-TIMEZONE:Europe/Madrid
DESCRIPTION:
URI:https://www.caldesdemontbui.cat/actualitat/agenda/caminada-al-gorc-den-pelacs.html
CLASS:PUBLIC
END:VEVENT
END:VCALENDAR
