BEGIN:VCALENDAR
VERSION:2.0
CALSCALE:GREGORIAN
PRODID:-//Diputació de Barcelona//DibaCMS//EN
BEGIN:VEVENT
UID:6073
DTSTAMP:20260423T192114
DTSTART:20111028T200000
DTEND:20111028T000000
SUMMARY:Presentació de l'informe anual d'Amnistia: l'estat dels Drets Humans al món. 2011
LOCATION:
METHOD:PUBLISH
X-WR-CALNAME:caldesm@caldesdemontbui.cat
X-WR-TIMEZONE:Europe/Madrid
DESCRIPTION:
URI:https://www.caldesdemontbui.cat/actualitat/agenda/presentacio-de-linforme-anual-damnistia-lestat-dels-drets-humans-al-mon-2011.html
CLASS:PUBLIC
END:VEVENT
END:VCALENDAR
