BEGIN:VCALENDAR
VERSION:2.0
CALSCALE:GREGORIAN
PRODID:-//Diputació de Barcelona//DibaCMS//EN
BEGIN:VEVENT
UID:6072
DTSTAMP:20260424T085138
DTSTART:20111028T190000
DTEND:20111028T000000
SUMMARY:Cicle "Tradicions culinàries": Coneix els bolets i com cuinar-los
LOCATION:
METHOD:PUBLISH
X-WR-CALNAME:caldesm@caldesdemontbui.cat
X-WR-TIMEZONE:Europe/Madrid
DESCRIPTION:
URI:https://www.caldesdemontbui.cat/actualitat/agenda/cicle-tradicions-culinaries-coneix-els-bolets-i-com-cuinar-los.html
CLASS:PUBLIC
END:VEVENT
END:VCALENDAR
