BEGIN:VCALENDAR
VERSION:2.0
CALSCALE:GREGORIAN
PRODID:-//Diputació de Barcelona//DibaCMS//EN
BEGIN:VEVENT
UID:6071
DTSTAMP:20260423T180134
DTSTART:20111028T180000
DTEND:20111028T000000
SUMMARY:Hora del conte: Els nostres contes. A càrrec de Ferran Puertas
LOCATION:
METHOD:PUBLISH
X-WR-CALNAME:caldesm@caldesdemontbui.cat
X-WR-TIMEZONE:Europe/Madrid
DESCRIPTION:
URI:https://www.caldesdemontbui.cat/actualitat/agenda/hora-del-conte-els-nostres-contes-a-carrec-de-ferran-puertas.html
CLASS:PUBLIC
END:VEVENT
END:VCALENDAR
