BEGIN:VCALENDAR
VERSION:2.0
CALSCALE:GREGORIAN
PRODID:-//Diputació de Barcelona//DibaCMS//EN
BEGIN:VEVENT
UID:6070
DTSTAMP:20260423T074926
DTSTART:20111026T210000
DTEND:20111026T000000
SUMMARY:Xerrada-Taller "Interacció i comunicació en els tres primers anys de vida dels nostres fills i filles" a càrrec de Covi Folqué
LOCATION:
METHOD:PUBLISH
X-WR-CALNAME:caldesm@caldesdemontbui.cat
X-WR-TIMEZONE:Europe/Madrid
DESCRIPTION:
URI:https://www.caldesdemontbui.cat/actualitat/agenda/xerrada-taller-interaccio-i-comunicacio-en-els-tres-primers-anys-de-vida-dels-nostres-fills-i-filles-a-carrec-de-covi-folque.html
CLASS:PUBLIC
END:VEVENT
END:VCALENDAR
