BEGIN:VCALENDAR
VERSION:2.0
CALSCALE:GREGORIAN
PRODID:-//Diputació de Barcelona//DibaCMS//EN
BEGIN:VEVENT
UID:6069
DTSTAMP:20260423T110205
DTSTART:20111026T170000
DTEND:20111026T000000
SUMMARY:Curs: L'acompanyament en la malaltia. La mort i el dol en el cristianisme
LOCATION:
METHOD:PUBLISH
X-WR-CALNAME:caldesm@caldesdemontbui.cat
X-WR-TIMEZONE:Europe/Madrid
DESCRIPTION:
URI:https://www.caldesdemontbui.cat/actualitat/agenda/curs-lacompanyament-en-la-malaltia-la-mort-i-el-dol-en-el-cristianisme.html
CLASS:PUBLIC
END:VEVENT
END:VCALENDAR
