BEGIN:VCALENDAR
VERSION:2.0
CALSCALE:GREGORIAN
PRODID:-//Diputació de Barcelona//DibaCMS//EN
BEGIN:VEVENT
UID:6068
DTSTAMP:20260423T180540
DTSTART:20111024T190000
DTEND:20111024T000000
SUMMARY:Club de lectura a la Biblioteca de Caldes. Xerrada sobre l'obra de KAZUO ISHIGURO, Quan erem orfes
LOCATION:
METHOD:PUBLISH
X-WR-CALNAME:caldesm@caldesdemontbui.cat
X-WR-TIMEZONE:Europe/Madrid
DESCRIPTION:
URI:https://www.caldesdemontbui.cat/actualitat/agenda/club-de-lectura-a-la-biblioteca-de-caldes-xerrada-sobre-lobra-de-kazuo-ishiguro-quan-erem-orfes.html
CLASS:PUBLIC
END:VEVENT
END:VCALENDAR
