BEGIN:VCALENDAR
VERSION:2.0
CALSCALE:GREGORIAN
PRODID:-//Diputació de Barcelona//DibaCMS//EN
BEGIN:VEVENT
UID:6066
DTSTAMP:20260424T020459
DTSTART:20111023T080000
DTEND:20111023T000000
SUMMARY:Open Vila de Caldes Tir amb Arc de Camp
LOCATION:
METHOD:PUBLISH
X-WR-CALNAME:caldesm@caldesdemontbui.cat
X-WR-TIMEZONE:Europe/Madrid
DESCRIPTION:
URI:https://www.caldesdemontbui.cat/actualitat/agenda/open-vila-de-caldes-tir-amb-arc-de-camp.html
CLASS:PUBLIC
END:VEVENT
END:VCALENDAR
