BEGIN:VCALENDAR
VERSION:2.0
CALSCALE:GREGORIAN
PRODID:-//Diputació de Barcelona//DibaCMS//EN
BEGIN:VEVENT
UID:6065
DTSTAMP:20260423T124511
DTSTART:20111022T100000
DTEND:20111022T000000
SUMMARY:Cicle "Tradicions culinàries": Aprèn a fer panellets
LOCATION:
METHOD:PUBLISH
X-WR-CALNAME:caldesm@caldesdemontbui.cat
X-WR-TIMEZONE:Europe/Madrid
DESCRIPTION:
URI:https://www.caldesdemontbui.cat/actualitat/agenda/cicle-tradicions-culinaries-apren-a-fer-panellets.html
CLASS:PUBLIC
END:VEVENT
END:VCALENDAR
