BEGIN:VCALENDAR
VERSION:2.0
CALSCALE:GREGORIAN
PRODID:-//Diputació de Barcelona//DibaCMS//EN
BEGIN:VEVENT
UID:6064
DTSTAMP:20260423T192200
DTSTART:20111020T180000
DTEND:20111020T000000
SUMMARY:Contes en anglès a la Biblioteca de Caldes. STORY TIME: The Three Little Pigs.
LOCATION:
METHOD:PUBLISH
X-WR-CALNAME:caldesm@caldesdemontbui.cat
X-WR-TIMEZONE:Europe/Madrid
DESCRIPTION:
URI:https://www.caldesdemontbui.cat/actualitat/agenda/contes-en-angles-a-la-biblioteca-de-caldes-story-time-the-three-little-pigs.html
CLASS:PUBLIC
END:VEVENT
END:VCALENDAR
