BEGIN:VCALENDAR
VERSION:2.0
CALSCALE:GREGORIAN
PRODID:-//Diputació de Barcelona//DibaCMS//EN
BEGIN:VEVENT
UID:6063
DTSTAMP:20260424T012821
DTSTART:20111016T000000
DTEND:20111016T000000
SUMMARY:Fira d'antiquaris i brocanters a Caldes de Montbui el 16 d'octubre, a l'aplec del Remei
LOCATION:
METHOD:PUBLISH
X-WR-CALNAME:caldesm@caldesdemontbui.cat
X-WR-TIMEZONE:Europe/Madrid
DESCRIPTION:
URI:https://www.caldesdemontbui.cat/actualitat/agenda/fira-dantiquaris-i-brocanters-a-caldes-de-montbui-el-16-doctubre-a-laplec-del-remei.html
CLASS:PUBLIC
END:VEVENT
END:VCALENDAR
