BEGIN:VCALENDAR
VERSION:2.0
CALSCALE:GREGORIAN
PRODID:-//Diputació de Barcelona//DibaCMS//EN
BEGIN:VEVENT
UID:6062
DTSTAMP:20260423T192619
DTSTART:20111014T080000
DTEND:20111016T000000
SUMMARY:Capvuitada i Aplec del Remei
LOCATION:
METHOD:PUBLISH
X-WR-CALNAME:caldesm@caldesdemontbui.cat
X-WR-TIMEZONE:Europe/Madrid
DESCRIPTION:
URI:https://www.caldesdemontbui.cat/actualitat/agenda/capvuitada-i-aplec-del-remei.html
CLASS:PUBLIC
END:VEVENT
END:VCALENDAR
