BEGIN:VCALENDAR
VERSION:2.0
CALSCALE:GREGORIAN
PRODID:-//Diputació de Barcelona//DibaCMS//EN
BEGIN:VEVENT
UID:6061
DTSTAMP:20260423T201421
DTSTART:20111011T170000
DTEND:20111011T000000
SUMMARY:Tastet de teatre: taller de teatre per a joves de més de 14 anys
LOCATION:
METHOD:PUBLISH
X-WR-CALNAME:caldesm@caldesdemontbui.cat
X-WR-TIMEZONE:Europe/Madrid
DESCRIPTION:
URI:https://www.caldesdemontbui.cat/actualitat/agenda/tastet-de-teatre-taller-de-teatre-per-a-joves-de-mes-de-14-anys.html
CLASS:PUBLIC
END:VEVENT
END:VCALENDAR
