BEGIN:VCALENDAR
VERSION:2.0
CALSCALE:GREGORIAN
PRODID:-//Diputació de Barcelona//DibaCMS//EN
BEGIN:VEVENT
UID:6060
DTSTAMP:20260423T092051
DTSTART:20111008T193000
DTEND:20111008T000000
SUMMARY:Inauguració de l'exposició 'Els iogurts de la farmàcia Codina'
LOCATION:
METHOD:PUBLISH
X-WR-CALNAME:caldesm@caldesdemontbui.cat
X-WR-TIMEZONE:Europe/Madrid
DESCRIPTION:
URI:https://www.caldesdemontbui.cat/actualitat/agenda/inauguracio-de-lexposicio-els-iogurts-de-la-farmacia-codina.html
CLASS:PUBLIC
END:VEVENT
END:VCALENDAR
