BEGIN:VCALENDAR
VERSION:2.0
CALSCALE:GREGORIAN
PRODID:-//Diputació de Barcelona//DibaCMS//EN
BEGIN:VEVENT
UID:6059
DTSTAMP:20260423T144719
DTSTART:20111008T120000
DTEND:20111008T000000
SUMMARY:Emprentes de dones argentines i catalanes a la Biblioteca de Caldes
LOCATION:
METHOD:PUBLISH
X-WR-CALNAME:caldesm@caldesdemontbui.cat
X-WR-TIMEZONE:Europe/Madrid
DESCRIPTION:
URI:https://www.caldesdemontbui.cat/actualitat/agenda/emprentes-de-dones-argentines-i-catalanes-a-la-biblioteca-de-caldes.html
CLASS:PUBLIC
END:VEVENT
END:VCALENDAR
