BEGIN:VCALENDAR
VERSION:2.0
CALSCALE:GREGORIAN
PRODID:-//Diputació de Barcelona//DibaCMS//EN
BEGIN:VEVENT
UID:6058
DTSTAMP:20260423T230716
DTSTART:20111008T120000
DTEND:20111008T000000
SUMMARY:Inauguració de l'exposició: Emprentes de dones. Gravadores de Catalunya i Argentina
LOCATION:
METHOD:PUBLISH
X-WR-CALNAME:caldesm@caldesdemontbui.cat
X-WR-TIMEZONE:Europe/Madrid
DESCRIPTION:
URI:https://www.caldesdemontbui.cat/actualitat/agenda/inauguracio-de-lexposicio-emprentes-de-dones-gravadores-de-catalunya-i-argentina.html
CLASS:PUBLIC
END:VEVENT
END:VCALENDAR
