BEGIN:VCALENDAR
VERSION:2.0
CALSCALE:GREGORIAN
PRODID:-//Diputació de Barcelona//DibaCMS//EN
BEGIN:VEVENT
UID:6057
DTSTAMP:20260423T162333
DTSTART:20111007T180000
DTEND:20111007T000000
SUMMARY:Exposició de mosaic i pintura de Joaquim Pitarch. Art i Ajuda
LOCATION:
METHOD:PUBLISH
X-WR-CALNAME:caldesm@caldesdemontbui.cat
X-WR-TIMEZONE:Europe/Madrid
DESCRIPTION:
URI:https://www.caldesdemontbui.cat/actualitat/agenda/exposicio-de-mosaic-i-pintura-de-joaquim-pitarch-art-i-ajuda.html
CLASS:PUBLIC
END:VEVENT
END:VCALENDAR
