BEGIN:VCALENDAR
VERSION:2.0
CALSCALE:GREGORIAN
PRODID:-//Diputació de Barcelona//DibaCMS//EN
BEGIN:VEVENT
UID:6055
DTSTAMP:20260423T223522
DTSTART:20111006T210000
DTEND:20111006T000000
SUMMARY:Xerrada: Parlem de Lóczy. Referències pedagògiques de la nostra escola bressol
LOCATION:
METHOD:PUBLISH
X-WR-CALNAME:caldesm@caldesdemontbui.cat
X-WR-TIMEZONE:Europe/Madrid
DESCRIPTION:
URI:https://www.caldesdemontbui.cat/actualitat/agenda/xerrada-parlem-de-loczy-referencies-pedagogiques-de-la-nostra-escola-bressol.html
CLASS:PUBLIC
END:VEVENT
END:VCALENDAR
