BEGIN:VCALENDAR
VERSION:2.0
CALSCALE:GREGORIAN
PRODID:-//Diputació de Barcelona//DibaCMS//EN
BEGIN:VEVENT
UID:6054
DTSTAMP:20260423T124612
DTSTART:20111006T173000
DTEND:20111006T000000
SUMMARY:Cicle Despendre per aprendre: Cinefòrum a partir del documental "Te acompañamos"
LOCATION:
METHOD:PUBLISH
X-WR-CALNAME:caldesm@caldesdemontbui.cat
X-WR-TIMEZONE:Europe/Madrid
DESCRIPTION:
URI:https://www.caldesdemontbui.cat/actualitat/agenda/cicle-despendre-per-aprendre-cineforum-a-partir-del-documental-te-acompanamos.html
CLASS:PUBLIC
END:VEVENT
END:VCALENDAR
