BEGIN:VCALENDAR
VERSION:2.0
CALSCALE:GREGORIAN
PRODID:-//Diputació de Barcelona//DibaCMS//EN
BEGIN:VEVENT
UID:6051
DTSTAMP:20260423T193113
DTSTART:20111002T100000
DTEND:20111002T000000
SUMMARY:Fira Outlet
LOCATION:
METHOD:PUBLISH
X-WR-CALNAME:caldesm@caldesdemontbui.cat
X-WR-TIMEZONE:Europe/Madrid
DESCRIPTION:
URI:https://www.caldesdemontbui.cat/actualitat/agenda/fira-outlet.html
CLASS:PUBLIC
END:VEVENT
END:VCALENDAR
