BEGIN:VCALENDAR
VERSION:2.0
CALSCALE:GREGORIAN
PRODID:-//Diputació de Barcelona//DibaCMS//EN
BEGIN:VEVENT
UID:6049
DTSTAMP:20260423T192334
DTSTART:20111001T000000
DTEND:20111001T000000
SUMMARY:Sortida de senderisme: Cim de la Dent d'Orlú
LOCATION:
METHOD:PUBLISH
X-WR-CALNAME:caldesm@caldesdemontbui.cat
X-WR-TIMEZONE:Europe/Madrid
DESCRIPTION:
URI:https://www.caldesdemontbui.cat/actualitat/agenda/sortida-de-senderisme-cim-de-la-dent-dorl.html
CLASS:PUBLIC
END:VEVENT
END:VCALENDAR
