BEGIN:VCALENDAR
VERSION:2.0
CALSCALE:GREGORIAN
PRODID:-//Diputació de Barcelona//DibaCMS//EN
BEGIN:VEVENT
UID:6046
DTSTAMP:20260423T210110
DTSTART:20110930T170000
DTEND:20110930T210000
SUMMARY:Campanya per promocionar que es pengin estelades al balcó durant la Festa Major
LOCATION:
METHOD:PUBLISH
X-WR-CALNAME:caldesm@caldesdemontbui.cat
X-WR-TIMEZONE:Europe/Madrid
DESCRIPTION:
URI:https://www.caldesdemontbui.cat/actualitat/agenda/campanya-per-promocionar-que-es-pengin-estelades-al-balco-durant-la-festa-major.html
CLASS:PUBLIC
END:VEVENT
END:VCALENDAR
