BEGIN:VCALENDAR
VERSION:2.0
CALSCALE:GREGORIAN
PRODID:-//Diputació de Barcelona//DibaCMS//EN
BEGIN:VEVENT
UID:6043
DTSTAMP:20260423T224502
DTSTART:20110926T190000
DTEND:20110926T000000
SUMMARY:Club de lectura sobre l'obra de Gustave Flaubert, L'Educació sentimental
LOCATION:
METHOD:PUBLISH
X-WR-CALNAME:caldesm@caldesdemontbui.cat
X-WR-TIMEZONE:Europe/Madrid
DESCRIPTION:
URI:https://www.caldesdemontbui.cat/actualitat/agenda/club-de-lectura-sobre-lobra-de-gustave-flaubert-leducacio-sentimental.html
CLASS:PUBLIC
END:VEVENT
END:VCALENDAR
