BEGIN:VCALENDAR
VERSION:2.0
CALSCALE:GREGORIAN
PRODID:-//Diputació de Barcelona//DibaCMS//EN
BEGIN:VEVENT
UID:6041
DTSTAMP:20260424T065945
DTSTART:20110925T000000
DTEND:20110925T000000
SUMMARY:Primera etapa del camí de Sant Jaume
LOCATION:
METHOD:PUBLISH
X-WR-CALNAME:caldesm@caldesdemontbui.cat
X-WR-TIMEZONE:Europe/Madrid
DESCRIPTION:
URI:https://www.caldesdemontbui.cat/actualitat/agenda/primera-etapa-del-cami-de-sant-jaume.html
CLASS:PUBLIC
END:VEVENT
END:VCALENDAR
