BEGIN:VCALENDAR
VERSION:2.0
CALSCALE:GREGORIAN
PRODID:-//Diputació de Barcelona//DibaCMS//EN
BEGIN:VEVENT
UID:6040
DTSTAMP:20260423T194827
DTSTART:20110924T190000
DTEND:20110924T000000
SUMMARY:Inauguració de la farmàcia modernista Codina
LOCATION:
METHOD:PUBLISH
X-WR-CALNAME:caldesm@caldesdemontbui.cat
X-WR-TIMEZONE:Europe/Madrid
DESCRIPTION:
URI:https://www.caldesdemontbui.cat/actualitat/agenda/inauguracio-de-la-farmacia-modernista-codina.html
CLASS:PUBLIC
END:VEVENT
END:VCALENDAR
