BEGIN:VCALENDAR
VERSION:2.0
CALSCALE:GREGORIAN
PRODID:-//Diputació de Barcelona//DibaCMS//EN
BEGIN:VEVENT
UID:6039
DTSTAMP:20260424T092953
DTSTART:20110923T000000
DTEND:20110925T000000
SUMMARY:Entrada gratuïta al Museu Thermalia amb motiu de les Jornades del Patrimoni
LOCATION:
METHOD:PUBLISH
X-WR-CALNAME:caldesm@caldesdemontbui.cat
X-WR-TIMEZONE:Europe/Madrid
DESCRIPTION:
URI:https://www.caldesdemontbui.cat/actualitat/agenda/entrada-gratuita-al-museu-thermalia-amb-motiu-de-les-jornades-del-patrimoni.html
CLASS:PUBLIC
END:VEVENT
END:VCALENDAR
