BEGIN:VCALENDAR
VERSION:2.0
CALSCALE:GREGORIAN
PRODID:-//Diputació de Barcelona//DibaCMS//EN
BEGIN:VEVENT
UID:6038
DTSTAMP:20260424T020023
DTSTART:20110921T183000
DTEND:20110921T000000
SUMMARY:Xerrada: L'atenció a la malaltia de l'alzheimer
LOCATION:
METHOD:PUBLISH
X-WR-CALNAME:caldesm@caldesdemontbui.cat
X-WR-TIMEZONE:Europe/Madrid
DESCRIPTION:
URI:https://www.caldesdemontbui.cat/actualitat/agenda/xerrada-latencio-a-la-malaltia-de-lalzheimer.html
CLASS:PUBLIC
END:VEVENT
END:VCALENDAR
