BEGIN:VCALENDAR
VERSION:2.0
CALSCALE:GREGORIAN
PRODID:-//Diputació de Barcelona//DibaCMS//EN
BEGIN:VEVENT
UID:6035
DTSTAMP:20260424T022629
DTSTART:20110917T100000
DTEND:20110917T000000
SUMMARY:MIAU. Mostra internacional d'art urbà de Caldes de Montbui 
LOCATION:
METHOD:PUBLISH
X-WR-CALNAME:caldesm@caldesdemontbui.cat
X-WR-TIMEZONE:Europe/Madrid
DESCRIPTION:
URI:https://www.caldesdemontbui.cat/actualitat/agenda/miau-mostra-internacional-dart-urba-de-caldes-de-montbui-.html
CLASS:PUBLIC
END:VEVENT
END:VCALENDAR
