BEGIN:VCALENDAR
VERSION:2.0
CALSCALE:GREGORIAN
PRODID:-//Diputació de Barcelona//DibaCMS//EN
BEGIN:VEVENT
UID:6033
DTSTAMP:20260423T191953
DTSTART:20110914T170000
DTEND:20110914T000000
SUMMARY:Cinefòrum: El jardín de la alegría
LOCATION:
METHOD:PUBLISH
X-WR-CALNAME:caldesm@caldesdemontbui.cat
X-WR-TIMEZONE:Europe/Madrid
DESCRIPTION:
URI:https://www.caldesdemontbui.cat/actualitat/agenda/cineforum-el-jardin-de-la-alegria.html
CLASS:PUBLIC
END:VEVENT
END:VCALENDAR
