BEGIN:VCALENDAR
VERSION:2.0
CALSCALE:GREGORIAN
PRODID:-//Diputació de Barcelona//DibaCMS//EN
BEGIN:VEVENT
UID:6031
DTSTAMP:20260423T182408
DTSTART:20110912T000000
DTEND:20110912T000000
SUMMARY:Data límit per participar en el concurs de fotos de vacances Viatgeteca 2011
LOCATION:
METHOD:PUBLISH
X-WR-CALNAME:caldesm@caldesdemontbui.cat
X-WR-TIMEZONE:Europe/Madrid
DESCRIPTION:
URI:https://www.caldesdemontbui.cat/actualitat/agenda/data-limit-per-participar-en-el-concurs-de-fotos-de-vacances-viatgeteca-2011.html
CLASS:PUBLIC
END:VEVENT
END:VCALENDAR
