BEGIN:VCALENDAR
VERSION:2.0
CALSCALE:GREGORIAN
PRODID:-//Diputació de Barcelona//DibaCMS//EN
BEGIN:VEVENT
UID:6030
DTSTAMP:20260424T004154
DTSTART:20110911T190000
DTEND:20110911T000000
SUMMARY:Actuació de l'Agrupació Sardanista Calderina amb motiu de l'11 de Setembre
LOCATION:
METHOD:PUBLISH
X-WR-CALNAME:caldesm@caldesdemontbui.cat
X-WR-TIMEZONE:Europe/Madrid
DESCRIPTION:
URI:https://www.caldesdemontbui.cat/actualitat/agenda/actuacio-de-lagrupacio-sardanista-calderina-amb-motiu-de-l11-de-setembre.html
CLASS:PUBLIC
END:VEVENT
END:VCALENDAR
