BEGIN:VCALENDAR
VERSION:2.0
CALSCALE:GREGORIAN
PRODID:-//Diputació de Barcelona//DibaCMS//EN
BEGIN:VEVENT
UID:6029
DTSTAMP:20260423T093400
DTSTART:20110911T180000
DTEND:20110911T000000
SUMMARY:Inauguració de l'exposició de ceràmica i pintura "Sis més ú", de Núria Viladrosa 
LOCATION:
METHOD:PUBLISH
X-WR-CALNAME:caldesm@caldesdemontbui.cat
X-WR-TIMEZONE:Europe/Madrid
DESCRIPTION:
URI:https://www.caldesdemontbui.cat/actualitat/agenda/inauguracio-de-lexposicio-de-ceramica-i-pintura-sis-mes--de-nria-viladrosa-.html
CLASS:PUBLIC
END:VEVENT
END:VCALENDAR
