BEGIN:VCALENDAR
VERSION:2.0
CALSCALE:GREGORIAN
PRODID:-//Diputació de Barcelona//DibaCMS//EN
BEGIN:VEVENT
UID:6028
DTSTAMP:20260423T211359
DTSTART:20110911T180000
DTEND:20110911T000000
SUMMARY:Actuació dels Castellers de Caldes i la Colla Jove de l'Hospitalet
LOCATION:
METHOD:PUBLISH
X-WR-CALNAME:caldesm@caldesdemontbui.cat
X-WR-TIMEZONE:Europe/Madrid
DESCRIPTION:
URI:https://www.caldesdemontbui.cat/actualitat/agenda/actuacio-dels-castellers-de-caldes-i-la-colla-jove-de-lhospitalet.html
CLASS:PUBLIC
END:VEVENT
END:VCALENDAR
