BEGIN:VCALENDAR
VERSION:2.0
CALSCALE:GREGORIAN
PRODID:-//Diputació de Barcelona//DibaCMS//EN
BEGIN:VEVENT
UID:6027
DTSTAMP:20260424T154253
DTSTART:20110911T111500
DTEND:20110911T000000
SUMMARY:Celebració de l'11 de setembre, Diada Nacional 
LOCATION:
METHOD:PUBLISH
X-WR-CALNAME:caldesm@caldesdemontbui.cat
X-WR-TIMEZONE:Europe/Madrid
DESCRIPTION:
URI:https://www.caldesdemontbui.cat/actualitat/agenda/celebracio-de-l11-de-setembre-diada-nacional-.html
CLASS:PUBLIC
END:VEVENT
END:VCALENDAR
