BEGIN:VCALENDAR
VERSION:2.0
CALSCALE:GREGORIAN
PRODID:-//Diputació de Barcelona//DibaCMS//EN
BEGIN:VEVENT
UID:6026
DTSTAMP:20260423T074914
DTSTART:20110910T180000
DTEND:20110910T000000
SUMMARY:Inici de les activitats de la Cooridnadora de la Gent Gran a Les Cases dels Mestres
LOCATION:
METHOD:PUBLISH
X-WR-CALNAME:caldesm@caldesdemontbui.cat
X-WR-TIMEZONE:Europe/Madrid
DESCRIPTION:
URI:https://www.caldesdemontbui.cat/actualitat/agenda/inici-de-les-activitats-de-la-cooridnadora-de-la-gent-gran-a-les-cases-dels-mestres.html
CLASS:PUBLIC
END:VEVENT
END:VCALENDAR
